Workbook

Sheet How to Use
B2: You cannot have access to EDIT this sheet, read below.
B4: To Edit this Spreadsheet:
B6: 1 | C6: Open the File Menu.
B7: 2 | C7: Select "Copy to my Drive"
B8: 3 | C8: This will automatically open an editable copy to your Google Drive
B11: To Use this Spreadsheet:
B13: 1 | C13: Open the sheet for the desired Gladiator model.
B14: 2 | C14: Select the desired features in Column G by placing an x
B15: 3 | C15: In the 2nd section, place an x next to the expected Invoice discount
B16: 4 | C16: Fill any relevant trade-in, deposit or dealer fees
B17: 5 | C17: Set the tax rate for your area
B18: 6 | C18: For financing, enter the interest rate you're getting
B19: 7 | C19: For financing, set the term of your loan in months (eg. 72 mos = 6 years)
C21: Buy Me a cup of Coffee (or something)
C23: ONLY EDIT YELLOW CELLS
C24: Blue text is calculated, DO NOT EDIT.
C25: Red text indicates price changes based on options selected.
H26: Last Edited: January 8, 2021

Sheet Sport
A1: Custom | B1: To Edit, Open File Menu and choose "Make a Copy" | H1: Buy Me a cup of Coffee (or something)
A2: CODE | B2: Option | C2: Invoice | D2: MSRP | E2: Extended Invoice | F2: Extended MSRP | G2: Build | H2: Enter X within the Build column (G4-23) by each desired feature.
A3: 2_B | B3: JT SPORT | C3: 32978 | D3: 33565 | E3: =IF(G3="x",C3,0) -> 32978 | F3: =IF(G3="x",D3,0) -> 33565 | G3: x | H3: Notes/Requirements
A4: DFT | B4: 8-Speed Automatic 850RE Transmission | C4: 1800 | D4: 2000 | E4: =IF(G4="x",C4,0) -> 0 | F4: =IF(G4="x",D4,0) -> 0
A5: DFV | B5: 8-Speed Automatic 8HP75 Transmission | C5: 1800 | D5: 2000 | E5: =IF(G5="x",C5,0) -> 0 | F5: =IF(G5="x",D5,0) -> 0
A6: EXJ | B6: 3.0L V6 Turbo Diesel Engine w/ESS | C6: 3600 | D6: 4000 | E6: =IF(G6="x",C6,0) -> 0 | F6: =IF(G6="x",D6,0) -> 0
A7: CWA | B7: All Weather Floor Mats | C7: 149 | D7: 165 | E7: =IF(G7="x",C7,0) -> 0 | F7: =IF(G7="x",D7,0) -> 0
A8: DSA | B8: Trac-Lok Anti-Spin Rear Differential | C8: =if(or(G6="x",G14="x"),0,536) -> 536 | D8: =if(or(G6="x",G14="x"),0,595) -> 595 | E8: =IF(G8="x",C8,0) -> 0 | F8: =IF(G8="x",D8,0) -> 0 | H8: =if(or(G14="x",G6="x"),"Trac-Lok (DSA) included with Max Tow (AJQ)[F12] or V6 Turbo Diesel (EXJ) [F5]","")
A9: AM2 | B9: Aux Switch Group | C9: 266 | D9: 295 | E9: =IF(G9="x",C9,0) -> 0 | F9: =IF(G9="x",D9,0) -> 0
A10: HT1 | B10: Black Freedom Top 3-Piece Hard Top | C10: 1256 | D10: 1395 | E10: =IF(G10="x",C10,0) -> 0 | F10: =IF(G10="x",D10,0) -> 0
A11: GCD | B11: Deep Tint Windows | C11: 446 | D11: 495 | E11: =IF(G11="x",C11,0) -> 0 | F11: =IF(G11="x",D11,0) -> 0
A12: NHK | B12: Engine Block Heater | C12: 86 | D12: 95 | E12: =IF(G12="x",C12,0) -> 0 | F12: =IF(G12="x",D12,0) -> 0
A13: XWX | B13: Jeep Trail Rated Kit | C13: 180 | D13: 200 | E13: =IF(G13="x",C13,0) -> 0 | F13: =IF(G13="x",D13,0) -> 0
A14: AJQ | B14: Max Tow Package w/ 4.10 Axle Ratio | C14: 1120 | D14: 1245 | E14: =IF(G14="x",C14,0) -> 0 | F14: =IF(G14="x",D14,0) -> 0 | H14: =if(and(G14="x",G4=""),"Requires (DFT) Automatic Transmission [G4]","")
A15: CSD | B15: Roll-Up Tonneau Cover | C15: 536 | D15: 595 | E15: =IF(G15="x",C15,0) -> 0 | F15: =IF(G15="x",D15,0) -> 0 | H15: =if(G22="x","N/A with Mopar Soft Tri-fold (CT6) [F15]","")
A16: RSD | B16: SiriusXM w/ 1-Year Radio Subscription | C16: 266 | D16: 295 | E16: =IF(G16="x",C16,0) -> 0 | F16: =IF(G16="x",D16,0) -> 0
A17: AWS | B17: Smokers Group | C17: 27 | D17: 30 | E17: =IF(G17="x",C17,0) -> 0 | F17: =IF(G17="x",D17,0) -> 0
A18: CWJ | B18: Soft Top Window Storage Bag | C18: 68 | D18: 75 | E18: =IF(G18="x",C18,0) -> 0 | F18: =IF(G18="x",D18,0) -> 0
A19: XMF | B19: Spray-In Bedliner | C19: 446 | D19: 495 | E19: =IF(G19="x",C19,0) -> 0 | F19: =IF(G19="x",D19,0) -> 0
A20: ABR | B20: Trailer Tow | C20: =if(G14="x",0,316) -> 316 | D20: =if(G14="x",0,350) -> 350 | E20: =IF(G20="x",C20,0) -> 0 | F20: =IF(G20="x",D20,0) -> 0 | H20: =if(and(G20="x",G14="x"),"Included with Max Tow Package (AJQ)","")
A21: CSU | B21: Mopar Hard Tri-fold Tonneau Cover | C21: 896 | D21: 995 | E21: =IF(G21="x",C21,0) -> 0 | F21: =IF(G21="x",D21,0) -> 0 | H21: =if(or(G15="x",G22="x"),"N/A with Roll-Up Tonneau (CSD) [F13] or Mopar Soft Tri-fold (CT6) [F20]","")
A22: CT6 | B22: Mopar Soft Tri-fold Tonneau Cover | C22: 563 | D22: 625 | E22: =IF(G22="x",C22,0) -> 0 | F22: =IF(G22="x",D22,0) -> 0 | H22: =if(or(G15="x",G21="x"),"N/A with Roll-Up Tonneau (CSD) [F13] or Mopar Hard Tri-fold (CSU) [F19]","")
B23: "Non-White" Paint Color Surcharge | C23: 220 | D23: 245 | E23: =IF(G23="x",C23,0) -> 0 | F23: =IF(G23="x",D23,0) -> 0 | H23: Required for any color other than White
B24: ='Mopar Add-Ons'!B24 -> Total Mopar Add-On Cost | E24: ='Mopar Add-Ons'!E24 -> 0 | F24: ='Mopar Add-Ons'!F24 -> 0 | H24: ='Mopar Add-Ons'!H24 -> Price pulled from sheet "Mopar Add-Ons"
B25: TOTAL | E25: =SUM(E3:E24) -> 32978 | F25: =SUM(F3:F24) -> 33565
B26: Jeep.com Configurator Price | F26: =F25+D32 -> 35060
B28: MSRP | D28: =F25 -> 33565 | F28: Pick ONE (1) of the values calculated in column D and enter the letter X into the corresponding cell on the right (column E).
B29: Invoice | D29: =E25 -> 32978
B30: % Below Invoice | C30: 0.03 | D30: =E25*(1-C30) -> 31988.66
B31: Custom
B32: Price + Destination Charge | D32: 1495 | E32: =(((SUM(((IF(E28="x",D28,0))+IF(E29="x",D29,0))+IF(E30="x",D30,0))+(IF(E31="x",D31,0))))+D32) -> 1495
B33: Trade In (if applicable) | F33: Enter trade-in value or leave blank.
B34: Downpayment (if applicable) | F34: Enter downpayment or leave blank.
B35: Dealer Fees (if applicable) | F35: Enter dealer fees or leave blank.
B36: Other Costs (if applicable) | F36: Enter other costs or leave blank.
B37: Taxes (if applicable) | D37: 0.085 | E37: =(E32-E33+E35+E36)*D37 -> 127.075 | F37: Enter tax rate in Column D
B38: FINAL TOTAL | E38: =sum(E32-E33-E34+E35+E36+E37) -> 1622.075
C40: FINANCING
C41: Amount | E41: =E38 -> 1622.075 | F41: Auto fills from FINAL TOTAL.
C42: Rate | E42: 0.049 | F42: Enter rate (will auto convert to %).
...

Sheet Willys Sport
A1: Custom | B1: To Edit, Open File Menu and choose "Make a Copy" | H1: Buy Me a cup of Coffee (or something)
A2: CODE | B2: Option | C2: Invoice | D2: MSRP | E2: Extended Invoice | F2: Extended MSRP | G2: Build | H2: Enter X within the Build column (G4-20) by each desired feature.
A3: 2_B | B3: JT WILLYS SPORT | C3: 34508 | D3: 35265 | E3: =IF(G3="x",C3,0) -> 34508 | F3: =IF(G3="x",D3,0) -> 35265 | G3: x | H3: Notes/Requirements
A4: DFT | B4: 8-Speed Automatic 850RE Transmission | C4: 1800 | D4: 2000 | E4: =IF(G4="x",C4,0) -> 0 | F4: =IF(G4="x",D4,0) -> 0
A5: DFV | B5: 8-Speed Automatic 8HP75 Transmission | C5: 1800 | D5: 2000 | E5: =IF(G5="x",C5,0) -> 1800 | F5: =IF(G5="x",D5,0) -> 2000 | G5: x
A6: EXJ | B6: 3.0L V6 Turbo Diesel Engine w/ESS | C6: 3600 | D6: 4000 | E6: =IF(G6="x",C6,0) -> 3600 | F6: =IF(G6="x",D6,0) -> 4000 | G6: x
A7: CWA | B7: All Weather Floor Mats | C7: 149 | D7: 165 | E7: =IF(G7="x",C7,0) -> 0 | F7: =IF(G7="x",D7,0) -> 0
A8: AM2 | B8: Aux Switch Group | C8: 266 | D8: 295 | E8: =IF(G8="x",C8,0) -> 266 | F8: =IF(G8="x",D8,0) -> 295 | G8: x
A9: HT1 | B9: Black Freedom Top 3-Piece Hard Top | C9: 1256 | D9: 1395 | E9: =IF(G9="x",C9,0) -> 1256 | F9: =IF(G9="x",D9,0) -> 1395 | G9: x
A10: NHK | B10: Engine Block Heater | C10: 86 | D10: 95 | E10: =IF(G10="x",C10,0) -> 0 | F10: =IF(G10="x",D10,0) -> 0
A11: XWX | B11: Jeep Trail Rated Kit | C11: 180 | D11: 200 | E11: =IF(G11="x",C11,0) -> 0 | F11: =IF(G11="x",D11,0) -> 0
A12: CSD | B12: Roll-Up Tonneau Cover | C12: 536 | D12: 595 | E12: =IF(G12="x",C12,0) -> 0 | F12: =IF(G12="x",D12,0) -> 0 | H12: =if(G19="x","N/A with Mopar Soft Tri-fold (CT6) [F15]","")
A13: RSD | B13: SiriusXM w/ 1-Year Radio Subscription | C13: 266 | D13: 295 | E13: =IF(G13="x",C13,0) -> 0 | F13: =IF(G13="x",D13,0) -> 0
A14: AWS | B14: Smokers Group | C14: 27 | D14: 30 | E14: =IF(G14="x",C14,0) -> 0 | F14: =IF(G14="x",D14,0) -> 0
A15: CWJ | B15: Soft Top Window Storage Bag | C15: 68 | D15: 75 | E15: =IF(G15="x",C15,0) -> 0 | F15: =IF(G15="x",D15,0) -> 0
A16: XMF | B16: Spray-In Bedliner | C16: 446 | D16: 495 | E16: =IF(G16="x",C16,0) -> 446 | F16: =IF(G16="x",D16,0) -> 495 | G16: x
A17: ABR | B17: Trailer Tow | C17: 316 | D17: 350 | E17: =IF(G17="x",C17,0) -> 316 | F17: =IF(G17="x",D17,0) -> 350 | G17: x
A18: CSU | B18: Mopar Hard Tri-fold Tonneau Cover | C18: 896 | D18: 995 | E18: =IF(G18="x",C18,0) -> 0 | F18: =IF(G18="x",D18,0) -> 0 | H18: =if(or(G12="x",G19="x"),"N/A with Roll-Up Tonneau (CSD) [F13] or Mopar Soft Tri-fold (CT6) [F20]","")
A19: CT6 | B19: Mopar Soft Tri-fold Tonneau Cover | C19: 563 | D19: 625 | E19: =IF(G19="x",C19,0) -> 0 | F19: =IF(G19="x",D19,0) -> 0 | H19: =if(or(G12="x",G18="x"),"N/A with Roll-Up Tonneau (CSD) [F13] or Mopar Hard Tri-fold (CSU) [F19]","")
B20: "Non-White" Paint Color Surcharge | C20: 220 | D20: 245 | E20: =IF(G20="x",C20,0) -> 220 | F20: =IF(G20="x",D20,0) -> 245 | G20: x | H20: Required for any color other than White
B21: ='Mopar Add-Ons'!B24 -> Total Mopar Add-On Cost | E21: ='Mopar Add-Ons'!E24 -> 0 | F21: ='Mopar Add-Ons'!F24 -> 0 | H21: ='Mopar Add-Ons'!H24 -> Price pulled from sheet "Mopar Add-Ons"
B22: TOTAL | E22: =SUM(E3:E21) -> 42412 | F22: =SUM(F3:F21) -> 44045
B23: Jeep.com Configurator Price | F23: =F22+D38 -> 44045
B25: MSRP | D25: =F22 -> 44045 | F25: Pick ONE (1) of the values calculated in column D and enter the letter X into the corresponding cell on the right (column E). | H25: Willys Additions Include:
B26: Invoice | D26: =E22 -> 42412 | E26: x | H26: * Black Aluminum Wheels
B27: % Below Invoice | C27: 0.03 | D27: =E22*(1-C27) -> 41139.64 | H27: * All Weather Slush Mats
B28: Custom | H28: * Body Color Fenders
B29: Price + Destination Charge | D29: 1495 | E29: =(((SUM(((IF(E25="x",D25,0))+IF(E26="x",D26,0))+IF(E27="x",D27,0))+(IF(E28="x",D28,0))))+D29) -> 43907 | H29: * Trac-Lok (Limited Slip)
B30: Trade In (if applicable) | F30: Enter trade-in value or leave blank. | H30: * Black Grille
B31: Downpayment (if applicable) | E31: 13000 | F31: Enter downpayment or leave blank. | H31: * Red Heavy Duty Red Shocks (Front & Rear) - Same as Max Tow, but red
B32: Dealer Fees (if applicable) | F32: Enter dealer fees or leave blank. | H32: * LT255/75R17C Tires
B33: Other Costs (if applicable) | F33: Enter other costs or leave blank. | H33: * Mojave/Rubicon "protection sills"
B34: Taxes (if applicable) | D34: 0.095 | E34: =(E29-E30+E32+E33)*D34 -> 4171.165 | F34: Enter tax rate in Column D
B35: FINAL TOTAL | E35: =sum(E29-E30-E31+E32+E33+E34) -> 35078.165
C37: FINANCING
C38: Amount | E38: =E35 -> 35078.165 | F38: Auto fills from FINAL TOTAL.
C39: Rate | E39: 0.029 | F39: Enter rate (will auto convert to %).
C40: Length (months) | E40: 72 | F40: Enter total months to pay off loan.
C41: MONTHLY PYMT | E41: =PMT(E39/12,E40,-E38) -> 531.39841
H43: Last Updated October 21st, 2020

Sheet Sport S
B1: To Edit, Open File Menu and choose "Make a Copy" | H1: Buy Me a cup of Coffee (or something)
A2: Code | B2: Option | C2: Invoice | D2: MSRP | E2: Extended Invoice | F2: Extended MSRP | G2: Build | H2: Enter X within the Build column (G4-37) by each desired feature.
A3: 2_S | B3: JT SPORT S | C3: 35858 | D3: 36765 | E3: =IF(G3="x",C3,0) -> 35858 | F3: =IF(G3="x",D3,0) -> 36765 | G3: x | H3: Notes/Requirements
A4: DFT | B4: 8-Speed Automatic 850Re Transmission | C4: 1800 | D4: 2000 | E4: =IF(G4="x",C4,0) -> 0 | F4: =IF(G4="x",D4,0) -> 0 | H4: =if(and(G4="x",G5="x"),"N/A with multiple Transmission selections","")
A5: DFV | B5: 8-Speed Automatic 8HP75 Transmission | C5: 1800 | D5: 2000 | E5: =IF(G5="x",C5,0) -> 0 | F5: =IF(G5="x",D5,0) -> 0 | H5: =if(and(G5="x",G6=""),"Requires V6 Turbo","")
A6: EXJ | B6: 3.0L V6 Turbo Diesel Engine w/ESS | C6: 3600 | D6: 4000 | E6: =IF(G6="x",C6,0) -> 0 | F6: =IF(G6="x",D6,0) -> 0 | H6: =if(and(G6="x",G5=""),"Requires DFV 8-Speed Transmission","")
A7: AEK | B7: 8.4" Radio & Premium Audio Group | C7: 1796 | D7: 1995 | E7: =IF(G7="x",C7,0) -> 0 | F7: =IF(G7="x",D7,0) -> 0 | H7: =if(and(G7="x",G33=""),"Requires Technology Group (AAN)","")
A8: ALP | B8: Advanced Safety Group | C8: 716 | D8: 795 | E8: =IF(G8="x",C8,0) -> 0 | F8: =IF(G8="x",D8,0) -> 0 | H8: =if(and(G8="x",G26=""),"Requires Safety Group (AJ1)","")
A9: CWA | B9: All Weather Slush Mats | C9: 149 | D9: 165 | E9: =IF(G9="x",C9,0) -> 0 | F9: =IF(G9="x",D9,0) -> 0
A10: RC4 | B10: Alpine Premium Audio System | C10: =if(G7="x",0,1166) -> 1166 | D10: =if(G7="x",0,1295) -> 1295 | E10: =IF(G10="x",C10,0) -> 0 | F10: =IF(G10="x",D10,0) -> 0 | H10: =if(G7="x","Included with Premium Audio Group","")
A11: DSA | B11: Anti-Spin Rear Differential {Trac-Lok} | C11: =if(or(G6="x",G22="x"),0,536) -> 536 | D11: =if(or(G6="x",G22="x"),0,595) -> 595 | E11: =IF(G11="x",C11,0) -> 0 | F11: =IF(G11="x",D11,0) -> 0 | H11: =if(or(G22="x",G5="x"),"Included with Max Tow (AJQ) [G21] or V6 Turbo Diesel (EXJ) [G6]","")
A12: AM2 | B12: Auxiliary Switch Group | C12: 266 | D12: 295 | E12: =IF(G12="x",C12,0) -> 0 | F12: =IF(G12="x",D12,0) -> 0
A13: HT1 | B13: Black 3-Piece Hard Top | C13: =if(or(G17="x",G23="x"),0,1256) -> 1256 | D13: =if(or(G17="x",G23="x"),0,1395) -> 1395 | E13: =IF(G13="x",C13,0) -> 0 | F13: =IF(G13="x",D13,0) -> 0 | H13: =if(or(G17="x",G23="x"),"Included with Dual Top Group (AEN) or Popular Equipment Package (AEH)","")
A14: CMD | B14: Cargo Management Group w/ Trail Rail System | C14: 806 | D14: 895 | E14: =IF(G14="x",C14,0) -> 0 | F14: =IF(G14="x",D14,0) -> 0
A15: ADE | B15: Cold Weather Group | C15: =if(or(and(G4="",G5=""),G23="x"),626,896) -> 626 | D15: =if(or(and(G4="",G5=""),G23="x"),695,995) -> 695 | E15: =IF(G15="x",C15,0) -> 0 | F15: =IF(G15="x",D15,0) -> 0
A16: ADC | B16: Convenience Group | C16: =if(G23="x",0,IF(or(G4="",G15="x"),356,536)) -> 356 | D16: =if(G23="x",0,IF(or(G4="",G15="x"),395,595)) -> 395 | E16: =IF(G16="x",C16,0) -> 0 | F16: =IF(G16="x",D16,0) -> 0 | H16: =if(G23="x","Included with Popular Equipment Package (AEH)","")
A17: AEN | B17: Dual Top Group | C17: =if(G23="x",990,2156) -> 2156 | D17: =if(G23="x",1100,2395) -> 2395 | E17: =IF(G17="x",C17,0) -> 0 | F17: =IF(G17="x",D17,0) -> 0 | H17: =if(AND(G17="x",G25="",G36="",G37=""),"Requires Tonneau Option;Roll-Up (CSD), Hard Tri-fold (CSU) or Soft Tri-fold (CT6)","")
A18: NHK | B18: Engine Block Heater | C18: 86 | D18: 95 | E18: =IF(G18="x",C18,0) -> 0 | F18: =IF(G18="x",D18,0) -> 0
A19: ADA | B19: LED Headlamp and Fog Lamp Group | C19: 913 | D19: 1015 | E19: =IF(G19="x",C19,0) -> 0 | F19: =IF(G19="x",D19,0) -> 0 | H19: =(if(and(G19="x",G26=""),"Requires Safety Group (AJ1)",""))
A20: CHD | B20: Hardtop Headliner | C20: 500 | D20: 595 | E20: =IF(G20="x",C20,0) -> 0 | F20: =IF(G20="x",D20,0) -> 0 | H20: =if(G20="x",if(or(G17="x",G13="x"),"","Requires Dual Top Group (AEN) or Black 3-Pc Hard Top (HT1)"),"")
A21: XWX | B21: Jeep Trail Rated Kit | C21: 180 | D21: 200 | E21: =IF(G21="x",C21,0) -> 0 | F21: =IF(G21="x",D21,0) -> 0
A22: AJQ | B22: Max Tow Package w/ 4.10 Axle Ratio | C22: 1120 | D22: 1245 | E22: =IF(G22="x",C22,0) -> 0 | F22: =IF(G22="x",D22,0) -> 0 | H22: =if(G5="x","N/A with 8HP75 Automatic Transmission (DFV)","")
A23: AEH | B23: Popular Equipment Package | C23: 1256 | D23: 1395 | E23: =IF(G23="x",C23,0) -> 0 | F23: =IF(G23="x",D23,0) -> 0
A24: STB | B24: Premium Black Sunrider Soft Top | C24: =if(G17="x",0,536) -> 536 | D24: =if(G17="x",0,595) -> 595 | E24: =IF(G24="x",C24,0) -> 0 | F24: =IF(G24="x",D24,0) -> 0 | H24: =if(G17="x","Included with AEN (Dual Top Group)[F17]","")
A25: CSD | B25: Roll-Up Tonneau Cover | C25: 536 | D25: 595 | E25: =IF(G25="x",C25,0) -> 0 | F25: =IF(G25="x",D25,0) -> 0 | H25: =if(G37="x","N/A with Mopar Soft Tri-fold (CT6) [F23]","")
A26: AJ1 | B26: Safety Group | C26: 896 | D26: 995 | E26: =IF(G26="x",C26,0) -> 0 | F26: =IF(G26="x",D26,0) -> 0
A27: DHP | B27: Selec-Trac Full TIme 4WD System | C27: 626 | D27: 695 | E27: =IF(G27="x",C27,0) -> 0 | F27: =IF(G27="x",D27,0) -> 0 | H27: =if(and(G27="x",G4=""),"Requires 8-Speed Automatic 850Re Transmission (DFT)","")
A28: MRK | B28: Side Steps | C28: 626 | D28: 695 | E28: =IF(G28="x",C28,0) -> 0 | F28: =IF(G28="x",D28,0) -> 0
A29: RSD | B29: SiriusXM w/ 1-Year Radio Subscription | C29: =if(G33="x",0,266) -> 266 | D29: =if(G33="x",0,295) -> 295 | E29: =IF(G29="x",C29,0) -> 0 | F29: =IF(G29="x",D29,0) -> 0 | H29: =if(G33="x","Included with Technology Group (AAN)","")
A30: XHC | B30: Smokers Group | C30: 27 | D30: 30 | E30: =IF(G30="x",C30,0) -> 0 | F30: =IF(G30="x",D30,0) -> 0
A31: CWJ | B31: Soft Top Window Storage Bag | C31: 68 | D31: 75 | E31: =IF(G31="x",C31,0) -> 0 | F31: =IF(G31="x",D31,0) -> 0 | H31: =if(G31="x",if(or(G17="x",G24="x"),"","Requires STB (Premium Soft Top)[F18] or AEN (Dual Top Group)[F17]"),"")
A32: XMF | B32: Spray-In Bedliner | C32: 446 | D32: 495 | E32: =IF(G32="x",C32,0) -> 0 | F32: =IF(G32="x",D32,0) -> 0
A33: AAN | B33: Technology Group | C33: =if(G23="x",0,626) -> 626 | D33: =if(G23="x",0,695) -> 695 | E33: =IF(G33="x",C33,0) -> 0 | F33: =IF(G33="x",D33,0) -> 0 | H33: =if(and(G33="x",G16=""),"Requires Convenience Group (ADC)","")
A34: ABR | B34: Trailer Tow Package | C34: =if(or(G22="x",G23="x"),0,316) -> 316 | D34: =if(or(G22="x",G23="x"),0,350) -> 350 | E34: =IF(G34="x",C34,0) -> 0 | F34: =IF(G34="x",D34,0) -> 0 | H34: =if(or(G22="x",G23="x"),"Included with Max TowPackage (AJQ) or Popular Equipment Package (AEH)","")
A35: RSJ | B35: Wireless Blutooth Speaker | C35: 266 | D35: 295 | E35: =IF(G35="x",C35,0) -> 0 | F35: =IF(G35="x",D35,0) -> 0 | H35: =if(G35="x",if(or(G7="x",G10="x"),"","Requires 8.4 Radio (AEK) or Alpine Premium Audio (RC4)"),"")
A36: CSU | B36: Mopar Hard Tri-fold Tonneau Cover | C36: 896 | D36: 995 | E36: =IF(G36="x",C36,0) -> 0 | F36: =IF(G36="x",D36,0) -> 0 | H36: =if(or(G25="x",G37="x"),"N/A with Roll-Up Tonneau (CSD) [F21] or Mopar Soft Tri-fold (CT6) [F23]","")
A37: CT6 | B37: Mopar Soft Tri-fold Tonneau Cover | C37: 563 | D37: 625 | E37: =IF(G37="x",C37,0) -> 0 | F37: =IF(G37="x",D37,0) -> 0 | H37: =if(or(G25="x",G36="x"),"N/A with Roll-Up Tonneau (CSD) [F21] or Mopar Hard Tri-fold (CSU) [F22]","")
B38: "Non-White" Paint Color Surcharge | C38: 220 | D38: 245 | E38: =IF(G38="x",C38,0) -> 0 | F38: =IF(G38="x",D38,0) -> 0 | H38: Required for any color other than White
B39: ='Mopar Add-Ons'!B24 -> Total Mopar Add-On Cost | E39: ='Mopar Add-Ons'!E24 -> 0 | F39: ='Mopar Add-Ons'!F24 -> 0 | H39: ='Mopar Add-Ons'!H24 -> Price pulled from sheet "Mopar Add-Ons"
B40: TOTAL | E40: =SUM(E3:E39) -> 35858 | F40: =SUM(F3:F39) -> 36765
...

Sheet Willys
B1: To Edit, Open File Menu and choose "Make a Copy" | H1: Buy Me a cup of Coffee (or something)
A2: Code | B2: Option | C2: Invoice | D2: MSRP | E2: Extended Invoice | F2: Extended MSRP | G2: Build | H2: Enter X within the Build column (G4-34) by each desired feature.
A3: 2_S | B3: JT SPORT S | C3: 38104 | D3: 39260 | E3: =IF(G3="x",C3,0) -> 38104 | F3: =IF(G3="x",D3,0) -> 39260 | G3: x | H3: Notes/Requirements
A4: DFT | B4: 8-Speed Automatic 850Re Transmission | C4: 1800 | D4: 2000 | E4: =IF(G4="x",C4,0) -> 0 | F4: =IF(G4="x",D4,0) -> 0 | H4: =if(and(G4="x",G5="x"),"N/A with multiple Transmission selections","")
A5: DFV | B5: 8-Speed Automatic 8HP75 Transmission | C5: 1800 | D5: 2000 | E5: =IF(G5="x",C5,0) -> 1800 | F5: =IF(G5="x",D5,0) -> 2000 | G5: X | H5: =if(and(G5="x",G6=""),"Requires V6 Turbo","")
A6: EXJ | B6: 3.0L V6 Turbo Diesel Engine w/ESS | C6: 3600 | D6: 4000 | E6: =IF(G6="x",C6,0) -> 3600 | F6: =IF(G6="x",D6,0) -> 4000 | G6: X | H6: =if(and(G6="x",G5=""),"Requires DFV 8-Speed Transmission","")
A7: AEK | B7: 8.4" Radio & Premium Audio Group | C7: 1796 | D7: 1995 | E7: =IF(G7="x",C7,0) -> 1796 | F7: =IF(G7="x",D7,0) -> 1995 | G7: x | H7: =if(and(G7="x",G30=""),"Requires Technology Group (AAN)","")
A8: ALP | B8: Advanced Safety Group | C8: 716 | D8: 795 | E8: =IF(G8="x",C8,0) -> 0 | F8: =IF(G8="x",D8,0) -> 0 | H8: =if(and(G8="x",G23=""),"Requires Safety Group (AJ1)","")
A9: CWA | B9: All Weather Slush Mats | C9: 0 | D9: 0 | E9: =IF(G9="x",C9,0) -> 0 | F9: =IF(G9="x",D9,0) -> 0 | G9: x | H9: Included with Willys Package (26W)
A10: RC4 | B10: Alpine Premium Audio System | C10: =if(G7="x",0,1166) -> 0 | D10: =if(G7="x",0,1295) -> 0 | E10: =IF(G10="x",C10,0) -> 0 | F10: =IF(G10="x",D10,0) -> 0 | G10: X | H10: =if(G7="x","Included with Premium Audio Group","") -> Included with Premium Audio Group
A11: AM2 | B11: Auxiliary Switch Group | C11: 266 | D11: 295 | E11: =IF(G11="x",C11,0) -> 266 | F11: =IF(G11="x",D11,0) -> 295 | G11: X
A12: HT1 | B12: Black 3-Piece Hard Top | C12: =if(G16="x",0,1256) -> 1256 | D12: =if(G16="x",0,1395) -> 1395 | E12: =IF(G12="x",C12,0) -> 1256 | F12: =IF(G12="x",D12,0) -> 1395 | G12: X | H12: =if(G16="x","Included with Dual Top Group (AEN) or Popular Equipment Package (AEH)","")
A13: CMD | B13: Cargo Management Group w/ Trail Rail System | C13: 806 | D13: 895 | E13: =IF(G13="x",C13,0) -> 0 | F13: =IF(G13="x",D13,0) -> 0
A14: ADE | B14: Cold Weather Group | C14: 626 | D14: 695 | E14: =IF(G14="x",C14,0) -> 626 | F14: =IF(G14="x",D14,0) -> 695 | G14: X
A15: ADC | B15: Convenience Group | C15: 0 | D15: 0 | E15: =IF(G15="x",C15,0) -> 0 | F15: =IF(G15="x",D15,0) -> 0 | G15: x | H15: Included with Willys Package (26W)
A16: AEN | B16: Dual Top Group | C16: 2156 | D16: 2395 | E16: =IF(G16="x",C16,0) -> 0 | F16: =IF(G16="x",D16,0) -> 0 | H16: =if(AND(G16="x",G22="",G33="",G34=""),"Requires Tonneau Option;Roll-Up (CSD), Hard Tri-fold (CSU) or Soft Tri-fold (CT6)","")
A17: NHK | B17: Engine Block Heater | C17: 86 | D17: 95 | E17: =IF(G17="x",C17,0) -> 0 | F17: =IF(G17="x",D17,0) -> 0
A18: ADA | B18: LED Headlamp and Fog Lamp Group | C18: 913 | D18: 1015 | E18: =IF(G18="x",C18,0) -> 0 | F18: =IF(G18="x",D18,0) -> 0 | H18: =(if(and(G15="x",G23=""),"Requires Safety Group (AJ1)","")) -> Requires Safety Group (AJ1)
A19: CHD | B19: Hardtop Headliner | C19: 500 | D19: 595 | E19: =IF(G19="x",C19,0) -> 0 | F19: =IF(G19="x",D19,0) -> 0 | H19: =if(G19="x",if(or(G16="x",G12="x"),"","Requires Dual Top Group (AEN) or Black 3-Pc Hard Top (HT1)"),"")
A20: XWX | B20: Jeep Trail Rated Kit | C20: 180 | D20: 200 | E20: =IF(G20="x",C20,0) -> 0 | F20: =IF(G20="x",D20,0) -> 0
A21: STB | B21: Premium Black Sunrider Soft Top | C21: =if(G16="x",0,536) -> 536 | D21: =if(G16="x",0,595) -> 595 | E21: =IF(G21="x",C21,0) -> 0 | F21: =IF(G21="x",D21,0) -> 0 | H21: =if(G16="x","Included with AEN (Dual Top Group)[F17]","")
A22: CSD | B22: Roll-Up Tonneau Cover | C22: 536 | D22: 595 | E22: =IF(G22="x",C22,0) -> 0 | F22: =IF(G22="x",D22,0) -> 0 | H22: =if(G34="x","N/A with Mopar Soft Tri-fold (CT6) [F23]","")
A23: AJ1 | B23: Safety Group | C23: 896 | D23: 995 | E23: =IF(G23="x",C23,0) -> 0 | F23: =IF(G23="x",D23,0) -> 0
A24: DHP | B24: Selec-Trac Full TIme 4WD System | C24: 626 | D24: 695 | E24: =IF(G24="x",C24,0) -> 0 | F24: =IF(G24="x",D24,0) -> 0 | H24: =if(and(G24="x",G4=""),"Requires 8-Speed Automatic 850Re Transmission (DFT)","")
A25: MRK | B25: Side Steps | C25: 626 | D25: 695 | E25: =IF(G25="x",C25,0) -> 0 | F25: =IF(G25="x",D25,0) -> 0
A26: RSD | B26: SiriusXM w/ 1-Year Radio Subscription | C26: =if(G30="x",0,266) -> 0 | D26: =if(G30="x",0,295) -> 0 | E26: =IF(G26="x",C26,0) -> 0 | F26: =IF(G26="x",D26,0) -> 0 | G26: x | H26: =if(G30="x","Included with Technology Group (AAN)","") -> Included with Technology Group (AAN)
A27: XHC | B27: Smokers Group | C27: 27 | D27: 30 | E27: =IF(G27="x",C27,0) -> 0 | F27: =IF(G27="x",D27,0) -> 0
A28: CWJ | B28: Soft Top Window Storage Bag | C28: 68 | D28: 75 | E28: =IF(G28="x",C28,0) -> 0 | F28: =IF(G28="x",D28,0) -> 0 | H28: =if(G28="x",if(or(G16="x",G21="x"),"","Requires STB (Premium Soft Top)[F18] or AEN (Dual Top Group)[F17]"),"")
A29: XMF | B29: Spray-In Bedliner | C29: 446 | D29: 495 | E29: =IF(G29="x",C29,0) -> 446 | F29: =IF(G29="x",D29,0) -> 495 | G29: x
A30: AAN | B30: Technology Group | C30: 0 | D30: 0 | E30: =IF(G30="x",C30,0) -> 0 | F30: =IF(G30="x",D30,0) -> 0 | G30: x | H30: Included with Willys Package (26W)
A31: ABR | B31: Trailer Tow Package | C31: 316 | D31: 350 | E31: =IF(G31="x",C31,0) -> 316 | F31: =IF(G31="x",D31,0) -> 350 | G31: x
A32: RSJ | B32: Wireless Blutooth Speaker | C32: 266 | D32: 295 | E32: =IF(G32="x",C32,0) -> 0 | F32: =IF(G32="x",D32,0) -> 0 | H32: =if(G32="x",if(or(G7="x",G10="x"),"","Requires 8.4 Radio (AEK) or Alpine Premium Audio (RC4)"),"")
A33: CSU | B33: Mopar Hard Tri-fold Tonneau Cover | C33: 896 | D33: 995 | E33: =IF(G33="x",C33,0) -> 0 | F33: =IF(G33="x",D33,0) -> 0 | H33: =if(or(G22="x",G34="x"),"N/A with Roll-Up Tonneau (CSD) [F21] or Mopar Soft Tri-fold (CT6) [F23]","")
A34: CT6 | B34: Mopar Soft Tri-fold Tonneau Cover | C34: 563 | D34: 625 | E34: =IF(G34="x",C34,0) -> 0 | F34: =IF(G34="x",D34,0) -> 0 | H34: =if(or(G22="x",G33="x"),"N/A with Roll-Up Tonneau (CSD) [F21] or Mopar Hard Tri-fold (CSU) [F22]","")
B35: "Non-White" Paint Color Surcharge | C35: 220 | D35: 245 | E35: =IF(G35="x",C35,0) -> 220 | F35: =IF(G35="x",D35,0) -> 245 | G35: x | H35: Required for any color other than White
B36: ='Mopar Add-Ons'!B24 -> Total Mopar Add-On Cost | E36: ='Mopar Add-Ons'!E24 -> 0 | F36: ='Mopar Add-Ons'!F24 -> 0 | H36: ='Mopar Add-Ons'!H24 -> Price pulled from sheet "Mopar Add-Ons"
B37: TOTAL | E37: =SUM(E3:E36) -> 48430 | F37: =SUM(F3:F36) -> 50730
B38: Jeep.com Configurator Price | F38: =F37+D54 -> 50730
B40: MSRP | D40: =F37 -> 50730 | F40: Pick ONE (1) of the values calculated in column D and enter the letter X into the corresponding cell on the right (column E). | H40: Willys Additions Include:
B41: Invoice | D41: =E37 -> 48430 | H41: * Black Aluminum Wheels
...

Sheet Freedom
B1: To Edit, Open File Menu and choose "Make a Copy" | H1: Buy Me a cup of Coffee (or something)
A2: Code | B2: Option | C2: Invoice | D2: MSRP | E2: Extended Invoice | F2: Extended MSRP | G2: Build | H2: Enter X within the Build column (G4-37) by each desired feature.
A3: 2_F | B3: JT Freedom | C3: 38797 | D3: 40030 | E3: =IF(G3="x",C3,0) -> 38797 | F3: =IF(G3="x",D3,0) -> 40030 | G3: x | H3: Notes/Requirements
A4: DFT | B4: 8-Speed Automatic 850Re Transmission | C4: 1800 | D4: 2000 | E4: =IF(G4="x",C4,0) -> 0 | F4: =IF(G4="x",D4,0) -> 0 | H4: =if(and(G4="x",G5="x"),"N/A with multiple Transmission selections","")
A5: DFV | B5: 8-Speed Automatic 8HP75 Transmission | C5: 1800 | D5: 2000 | E5: =IF(G5="x",C5,0) -> 0 | F5: =IF(G5="x",D5,0) -> 0 | H5: =if(and(G5="x",G6=""),"Requires V6 Turbo","")
A6: EXJ | B6: 3.0L V6 Turbo Diesel Engine w/ESS | C6: 3600 | D6: 4000 | E6: =IF(G6="x",C6,0) -> 0 | F6: =IF(G6="x",D6,0) -> 0 | H6: =if(and(G6="x",G5=""),"Requires DFV 8-Speed Transmission","")
A7: AEK | B7: 8.4" Radio & Premium Audio Group | C7: 1796 | D7: 1995 | E7: =IF(G7="x",C7,0) -> 0 | F7: =IF(G7="x",D7,0) -> 0 | H7: =if(and(G7="x",G32=""),"Requires Technology Group (AAN)","")
A8: ALP | B8: Advanced Safety Group | C8: 716 | D8: 795 | E8: =IF(G8="x",C8,0) -> 0 | F8: =IF(G8="x",D8,0) -> 0 | H8: =if(and(G8="x",G25=""),"Requires Safety Group (AJ1)","")
A9: CWA | B9: All Weather Slush Mats | C9: 149 | D9: 165 | E9: =IF(G9="x",C9,0) -> 0 | F9: =IF(G9="x",D9,0) -> 0
A10: RC4 | B10: Alpine Premium Audio System | C10: =if(G7="x",0,1166) -> 1166 | D10: =if(G7="x",0,1295) -> 1295 | E10: =IF(G10="x",C10,0) -> 0 | F10: =IF(G10="x",D10,0) -> 0 | H10: =if(G7="x","Included with Premium Audio Group","")
A11: DSA | B11: Anti-Spin Rear Differential {Trac-Lok} | C11: =if(or(G6="x",G22="x"),0,536) -> 536 | D11: =if(or(G6="x",G22="x"),0,595) -> 595 | E11: =IF(G11="x",C11,0) -> 0 | F11: =IF(G11="x",D11,0) -> 0 | H11: =if(or(G22="x",G5="x"),"Included with Max Tow (AJQ) [G21] or V6 Turbo Diesel (EXJ) [G6]","")
A12: AM2 | B12: Auxiliary Switch Group | C12: 266 | D12: 295 | E12: =IF(G12="x",C12,0) -> 0 | F12: =IF(G12="x",D12,0) -> 0
A13: HT1 | B13: Black 3-Piece Hard Top | C13: =if(G17="x",0,1256) -> 1256 | D13: =if(G17="x",0,1395) -> 1395 | E13: =IF(G13="x",C13,0) -> 0 | F13: =IF(G13="x",D13,0) -> 0 | H13: =if(G17="x","Included with Dual Top Group (AEN)","")
A14: CMD | B14: Cargo Management Group w/ Trail Rail System | C14: 806 | D14: 895 | E14: =IF(G14="x",C14,0) -> 0 | F14: =IF(G14="x",D14,0) -> 0
A15: ADE | B15: Cold Weather Group | C15: =if(and(G4="",G5=""),626,896) -> 626 | D15: =if(and(G4="",G5=""),695,995) -> 695 | E15: =IF(G15="x",C15,0) -> 0 | F15: =IF(G15="x",D15,0) -> 0
A16: ADC | B16: Convenience Group | C16: =if(or(G4="",G15="x"),356,536) -> 356 | D16: =if(or(G4="",G15="x"),395,595) -> 395 | E16: =IF(G16="x",C16,0) -> 0 | F16: =IF(G16="x",D16,0) -> 0
A17: AEN | B17: Dual Top Group | C17: 2156 | D17: 2395 | E17: =IF(G17="x",C17,0) -> 0 | F17: =IF(G17="x",D17,0) -> 0 | H17: =if(AND(G17="x",G24="",G35="",G36=""),"Requires Tonneau Option;Roll-Up (CSD), Hard Tri-fold (CSU) or Soft Tri-fold (CT6)","")
A18: NHK | B18: Engine Block Heater | C18: 86 | D18: 95 | E18: =IF(G18="x",C18,0) -> 0 | F18: =IF(G18="x",D18,0) -> 0
A19: ADA | B19: LED Headlamp and Fog Lamp Group | C19: 0 | D19: 0 | E19: =IF(G19="x",C19,0) -> 0 | F19: =IF(G19="x",D19,0) -> 0 | G19: x | H19: =(if(and(G19="x",G25=""),"Typically Requires Safety Group (AJ1), ask your dealer","")) -> Typically Requires Safety Group (AJ1), ask your dealer
A20: CHD | B20: Hardtop Headliner | C20: 500 | D20: 595 | E20: =IF(G20="x",C20,0) -> 0 | F20: =IF(G20="x",D20,0) -> 0 | H20: =if(G20="x",if(or(G17="x",G13="x"),"","Requires Dual Top Group (AEN) or Black 3-Pc Hard Top (HT1)"),"")
A21: XWX | B21: Jeep Trail Rated Kit | C21: 180 | D21: 200 | E21: =IF(G21="x",C21,0) -> 0 | F21: =IF(G21="x",D21,0) -> 0
A22: AJQ | B22: Max Tow Package w/ 4.10 Axle Ratio | C22: 1120 | D22: 1245 | E22: =IF(G22="x",C22,0) -> 0 | F22: =IF(G22="x",D22,0) -> 0 | H22: =if(G5="x","N/A with 8HP75 Automatic Transmission (DFV)","")
A23: STB | B23: Premium Black Sunrider Soft Top | C23: 0 | D23: 0 | E23: =IF(G23="x",C23,0) -> 0 | F23: =IF(G23="x",D23,0) -> 0 | G23: x | H23: =if(G17="x","Included with AEN (Dual Top Group)[F17]","")
A24: CSD | B24: Roll-Up Tonneau Cover | C24: 536 | D24: 595 | E24: =IF(G24="x",C24,0) -> 0 | F24: =IF(G24="x",D24,0) -> 0 | H24: =if(G36="x","N/A with Mopar Soft Tri-fold (CT6) [F23]","")
A25: AJ1 | B25: Safety Group | C25: 896 | D25: 995 | E25: =IF(G25="x",C25,0) -> 0 | F25: =IF(G25="x",D25,0) -> 0
A26: DHP | B26: Selec-Trac Full TIme 4WD System | C26: 626 | D26: 695 | E26: =IF(G26="x",C26,0) -> 0 | F26: =IF(G26="x",D26,0) -> 0 | H26: =if(and(G26="x",G4=""),"Requires 8-Speed Automatic 850Re Transmission (DFT)","")
A27: MRK | B27: Side Steps | C27: 626 | D27: 695 | E27: =IF(G27="x",C27,0) -> 0 | F27: =IF(G27="x",D27,0) -> 0
A28: RSD | B28: SiriusXM w/ 1-Year Radio Subscription | C28: =if(G32="x",0,266) -> 266 | D28: =if(G32="x",0,295) -> 295 | E28: =IF(G28="x",C28,0) -> 0 | F28: =IF(G28="x",D28,0) -> 0 | H28: =if(G32="x","Included with Technology Group (AAN)","")
A29: XHC | B29: Smokers Group | C29: 27 | D29: 30 | E29: =IF(G29="x",C29,0) -> 0 | F29: =IF(G29="x",D29,0) -> 0
A30: CWJ | B30: Soft Top Window Storage Bag | C30: 68 | D30: 75 | E30: =IF(G30="x",C30,0) -> 0 | F30: =IF(G30="x",D30,0) -> 0 | H30: =if(G30="x",if(or(G17="x",G23="x"),"","Requires STB (Premium Soft Top)[F18] or AEN (Dual Top Group)[F17]"),"")
A31: XMF | B31: Spray-In Bedliner | C31: 446 | D31: 495 | E31: =IF(G31="x",C31,0) -> 0 | F31: =IF(G31="x",D31,0) -> 0
A32: AAN | B32: Technology Group | C32: 626 | D32: 695 | E32: =IF(G32="x",C32,0) -> 0 | F32: =IF(G32="x",D32,0) -> 0 | H32: =if(and(G32="x",G16=""),"Requires Convenience Group (ADC)","")
A33: ABR | B33: Trailer Tow Package | C33: =if(G22="x",0,316) -> 316 | D33: =if(G22="x",0,350) -> 350 | E33: =IF(G33="x",C33,0) -> 0 | F33: =IF(G33="x",D33,0) -> 0 | H33: =if(G22="x","Included with Max TowPackage (AJQ)","")
A34: RSJ | B34: Wireless Blutooth Speaker | C34: 266 | D34: 295 | E34: =IF(G34="x",C34,0) -> 0 | F34: =IF(G34="x",D34,0) -> 0 | H34: =if(G34="x",if(or(G7="x",G10="x"),"","Requires 8.4 Radio (AEK) or Alpine Premium Audio (RC4)"),"")
A35: CSU | B35: Mopar Hard Tri-fold Tonneau Cover | C35: 896 | D35: 995 | E35: =IF(G35="x",C35,0) -> 0 | F35: =IF(G35="x",D35,0) -> 0 | H35: =if(or(G24="x",G36="x"),"N/A with Roll-Up Tonneau (CSD) [F21] or Mopar Soft Tri-fold (CT6) [F23]","")
A36: CT6 | B36: Mopar Soft Tri-fold Tonneau Cover | C36: 563 | D36: 625 | E36: =IF(G36="x",C36,0) -> 0 | F36: =IF(G36="x",D36,0) -> 0 | H36: =if(or(G24="x",G35="x"),"N/A with Roll-Up Tonneau (CSD) [F21] or Mopar Hard Tri-fold (CSU) [F22]","")
B37: "Non-White" Paint Color Surcharge | C37: 220 | D37: 245 | E37: =IF(G37="x",C37,0) -> 0 | F37: =IF(G37="x",D37,0) -> 0 | H37: Required for any color other than White
B38: ='Mopar Add-Ons'!B24 -> Total Mopar Add-On Cost | E38: ='Mopar Add-Ons'!E24 -> 0 | F38: ='Mopar Add-Ons'!F24 -> 0 | H38: ='Mopar Add-Ons'!H24 -> Price pulled from sheet "Mopar Add-Ons"
B39: TOTAL | E39: =SUM(E3:E38) -> 38797 | F39: =SUM(F3:F38) -> 40030
B40: Jeep.com Configurator Price | F40: =F39+D56 -> 40030
...

Sheet 80th Anniv
B1: To Edit, Open File Menu and choose "Make a Copy" | H1: Buy Me a cup of Coffee (or something)
A2: Code | B2: Option | C2: Invoice | D2: MSRP | E2: Extended Invoice | F2: Extended MSRP | G2: Build | H2: Enter X within the Build column (G4-35) by each desired feature.
A3: 2_S | B3: JT SPORT S | C3: 40354 | D3: 41760 | E3: =IF(G3="x",C3,0) -> 40354 | F3: =IF(G3="x",D3,0) -> 41760 | G3: x | H3: Notes/Requirements
A4: DFT | B4: 8-Speed Automatic 850Re Transmission | C4: 0 | D4: 0 | E4: =IF(G4="x",C4,0) -> 0 | F4: =IF(G4="x",D4,0) -> 0 | G4: x | H4: =if(and(G4="x",G5="x"),"N/A with multiple Transmission selections","")
A5: DFV | B5: 8-Speed Automatic 8HP75 Transmission | C5: 0 | D5: 0 | E5: =IF(G5="x",C5,0) -> 0 | F5: =IF(G5="x",D5,0) -> 0 | H5: =if(and(G5="x",G6=""),"Requires V6 Turbo","")
A6: EXJ | B6: 3.0L V6 Turbo Diesel Engine w/ESS | C6: 3600 | D6: 4000 | E6: =IF(G6="x",C6,0) -> 0 | F6: =IF(G6="x",D6,0) -> 0 | H6: =if(and(G6="x",G5=""),"Requires DFV 8-Speed Transmission","")
A7: AEK | B7: 8.4" Radio & Premium Audio Group | C7: 0 | D7: 0 | E7: =IF(G7="x",C7,0) -> 0 | F7: =IF(G7="x",D7,0) -> 0 | G7: x | H7: =if(and(G7="x",G31=""),"Requires Technology Group (AAN)","")
A8: ALP | B8: Advanced Safety Group | C8: 716 | D8: 795 | E8: =IF(G8="x",C8,0) -> 0 | F8: =IF(G8="x",D8,0) -> 0 | H8: =if(and(G8="x",G24=""),"Requires Safety Group (AJ1)","")
A9: CWA | B9: All Weather Slush Mats | C9: 149 | D9: 165 | E9: =IF(G9="x",C9,0) -> 0 | F9: =IF(G9="x",D9,0) -> 0
A10: RC4 | B10: Alpine Premium Audio System | C10: 0 | D10: 0 | E10: =IF(G10="x",C10,0) -> 0 | F10: =IF(G10="x",D10,0) -> 0 | G10: x
A11: DSA | B11: Anti-Spin Rear Differential {Trac-Lok} | C11: 536 | D11: 595 | E11: =IF(G11="x",C11,0) -> 0 | F11: =IF(G11="x",D11,0) -> 0 | H11: =if(G5="x","Included with V6 Turbo Diesel (EXJ)","")
A12: AM2 | B12: Auxiliary Switch Group | C12: 266 | D12: 295 | E12: =IF(G12="x",C12,0) -> 0 | F12: =IF(G12="x",D12,0) -> 0
A13: HT1 | B13: Black 3-Piece Hard Top | C13: =if(G17="x",0,1256) -> 1256 | D13: =if(G17="x",0,1395) -> 1395 | E13: =IF(G13="x",C13,0) -> 0 | F13: =IF(G13="x",D13,0) -> 0 | H13: =if(G17="x","Included with Dual Top Group (AEN)","")
A14: CMD | B14: Cargo Management Group w/ Trail Rail System | C14: 806 | D14: 895 | E14: =IF(G14="x",C14,0) -> 0 | F14: =IF(G14="x",D14,0) -> 0
A15: ADE | B15: Cold Weather Group | C15: 896 | D15: 995 | E15: =IF(G15="x",C15,0) -> 0 | F15: =IF(G15="x",D15,0) -> 0
A16: ADC | B16: Convenience Group | C16: 0 | D16: 0 | E16: =IF(G16="x",C16,0) -> 0 | F16: =IF(G16="x",D16,0) -> 0 | G16: x
A17: AEN | B17: Dual Top Group | C17: 2156 | D17: 2395 | E17: =IF(G17="x",C17,0) -> 0 | F17: =IF(G17="x",D17,0) -> 0 | H17: =if(AND(G17="x",G23="",G34="",G35=""),"Requires Tonneau Option;Roll-Up (CSD), Hard Tri-fold (CSU) or Soft Tri-fold (CT6)","")
A18: NHK | B18: Engine Block Heater | C18: 86 | D18: 95 | E18: =IF(G18="x",C18,0) -> 0 | F18: =IF(G18="x",D18,0) -> 0
A19: CHD | B19: Hardtop Headliner | C19: 500 | D19: 595 | E19: =IF(G19="x",C19,0) -> 0 | F19: =IF(G19="x",D19,0) -> 0 | H19: =if(G19="x",if(or(G17="x",G13="x"),"","Requires Dual Top Group (AEN) or Black 3-Pc Hard Top (HT1)"),"")
A20: XWX | B20: Jeep Trail Rated Kit | C20: 180 | D20: 200 | E20: =IF(G20="x",C20,0) -> 0 | F20: =IF(G20="x",D20,0) -> 0
A21: ADA | B21: LED Headlamp and Fog Lamp Group | C21: 913 | D21: 1015 | E21: =IF(G21="x",C21,0) -> 0 | F21: =IF(G21="x",D21,0) -> 0 | H21: =(if(and(G21="x",G24=""),"Requires Safety Group (AJ1)",""))
A22: STB | B22: Premium Black Sunrider Soft Top | C22: =if(G17="x",0,536) -> 536 | D22: =if(G17="x",0,595) -> 595 | E22: =IF(G22="x",C22,0) -> 0 | F22: =IF(G22="x",D22,0) -> 0 | H22: =if(G17="x","Included with AEN (Dual Top Group)[F17]","")
A23: CSD | B23: Roll-Up Tonneau Cover | C23: 536 | D23: 595 | E23: =IF(G23="x",C23,0) -> 0 | F23: =IF(G23="x",D23,0) -> 0 | H23: =if(G35="x","N/A with Mopar Soft Tri-fold (CT6) [F23]","")
A24: AJ1 | B24: Safety Group | C24: 896 | D24: 995 | E24: =IF(G24="x",C24,0) -> 0 | F24: =IF(G24="x",D24,0) -> 0
A25: DHP | B25: Selec-Trac Full TIme 4WD System | C25: 626 | D25: 695 | E25: =IF(G25="x",C25,0) -> 0 | F25: =IF(G25="x",D25,0) -> 0 | H25: =if(and(G25="x",G4=""),"Requires 8-Speed Automatic 850Re Transmission (DFT)","")
A26: MRK | B26: Side Steps | C26: 626 | D26: 695 | E26: =IF(G26="x",C26,0) -> 0 | F26: =IF(G26="x",D26,0) -> 0
A27: RSD | B27: SiriusXM w/ 1-Year Radio Subscription | C27: 0 | D27: 0 | E27: =IF(G27="x",C27,0) -> 0 | F27: =IF(G27="x",D27,0) -> 0 | G27: x
A28: XHC | B28: Smokers Group | C28: 27 | D28: 30 | E28: =IF(G28="x",C28,0) -> 0 | F28: =IF(G28="x",D28,0) -> 0
A29: CWJ | B29: Soft Top Window Storage Bag | C29: 68 | D29: 75 | E29: =IF(G29="x",C29,0) -> 0 | F29: =IF(G29="x",D29,0) -> 0 | H29: =if(G29="x",if(or(G17="x",G22="x"),"","Requires STB (Premium Soft Top)[F18] or AEN (Dual Top Group)[F17]"),"")
A30: XMF | B30: Spray-In Bedliner | C30: 446 | D30: 495 | E30: =IF(G30="x",C30,0) -> 0 | F30: =IF(G30="x",D30,0) -> 0
A31: AAN | B31: Technology Group | C31: 0 | D31: 0 | E31: =IF(G31="x",C31,0) -> 0 | F31: =IF(G31="x",D31,0) -> 0 | G31: x | H31: =if(and(G31="x",G16=""),"Requires Convenience Group (ADC)","")
A32: ABR | B32: Trailer Tow Package | C32: 316 | D32: 350 | E32: =IF(G32="x",C32,0) -> 0 | F32: =IF(G32="x",D32,0) -> 0
A33: RSJ | B33: Wireless Blutooth Speaker | C33: 266 | D33: 295 | E33: =IF(G33="x",C33,0) -> 0 | F33: =IF(G33="x",D33,0) -> 0 | H33: =if(G33="x",if(or(G7="x",G10="x"),"","Requires 8.4 Radio (AEK) or Alpine Premium Audio (RC4)"),"")
A34: CSU | B34: Mopar Hard Tri-fold Tonneau Cover | C34: 896 | D34: 995 | E34: =IF(G34="x",C34,0) -> 0 | F34: =IF(G34="x",D34,0) -> 0 | H34: =if(or(G23="x",G35="x"),"N/A with Roll-Up Tonneau (CSD) [F21] or Mopar Soft Tri-fold (CT6) [F23]","")
A35: CT6 | B35: Mopar Soft Tri-fold Tonneau Cover | C35: 563 | D35: 625 | E35: =IF(G35="x",C35,0) -> 0 | F35: =IF(G35="x",D35,0) -> 0 | H35: =if(or(G23="x",G34="x"),"N/A with Roll-Up Tonneau (CSD) [F21] or Mopar Hard Tri-fold (CSU) [F22]","")
B36: "Non-White" Paint Color Surcharge | C36: 220 | D36: 245 | E36: =IF(G36="x",C36,0) -> 0 | F36: =IF(G36="x",D36,0) -> 0 | H36: Required for any color other than White
B37: ='Mopar Add-Ons'!B24 -> Total Mopar Add-On Cost | E37: ='Mopar Add-Ons'!E24 -> 0 | F37: ='Mopar Add-Ons'!F24 -> 0 | H37: ='Mopar Add-Ons'!H24 -> Price pulled from sheet "Mopar Add-Ons"
B38: TOTAL | E38: =SUM(E3:E37) -> 40354 | F38: =SUM(F3:F37) -> 41760
B39: Jeep.com Configurator Price | F39: =F38+D55 -> 41760
B41: MSRP | D41: =F38 -> 41760 | F41: Pick ONE (1) of the values calculated in column D and enter the letter X into the corresponding cell on the right (column E). | H41: 80th Anniversary Additions Include:
...

Sheet California
B1: To Edit, Open File Menu and choose "Make a Copy" | H1: Buy Me a cup of Coffee (or something)
A2: Code | B2: Option | C2: Invoice | D2: MSRP | E2: Extended Invoice | F2: Extended MSRP | G2: Build | H2: Enter X within the Build column (G4-37) by each desired feature.
A3: 2_S | B3: JT SPORT S | C3: 37384 | D3: 38460 | E3: =IF(G3="x",C3,0) -> 37384 | F3: =IF(G3="x",D3,0) -> 38460 | G3: x | H3: Notes/Requirements
A4: DFT | B4: 8-Speed Automatic 850Re Transmission | C4: 1800 | D4: 2000 | E4: =IF(G4="x",C4,0) -> 0 | F4: =IF(G4="x",D4,0) -> 0 | H4: =if(and(G4="x",G5="x"),"N/A with multiple Transmission selections","")
A5: DFV | B5: 8-Speed Automatic 8HP75 Transmission | C5: 1800 | D5: 2000 | E5: =IF(G5="x",C5,0) -> 0 | F5: =IF(G5="x",D5,0) -> 0 | H5: =if(and(G5="x",G6=""),"Requires V6 Turbo","")
A6: EXJ | B6: 3.0L V6 Turbo Diesel Engine w/ESS | C6: 3600 | D6: 4000 | E6: =IF(G6="x",C6,0) -> 0 | F6: =IF(G6="x",D6,0) -> 0 | H6: =if(and(G6="x",G5=""),"Requires DFV 8-Speed Transmission","")
A7: AEK | B7: 8.4" Radio & Premium Audio Group | C7: 1796 | D7: 1995 | E7: =IF(G7="x",C7,0) -> 0 | F7: =IF(G7="x",D7,0) -> 0 | H7: =if(and(G7="x",G33=""),"Requires Technology Group (AAN)","")
A8: ALP | B8: Advanced Safety Group | C8: 716 | D8: 795 | E8: =IF(G8="x",C8,0) -> 0 | F8: =IF(G8="x",D8,0) -> 0 | H8: =if(and(G8="x",G26=""),"Requires Safety Group (AJ1)","")
A9: CWA | B9: All Weather Slush Mats | C9: 149 | D9: 165 | E9: =IF(G9="x",C9,0) -> 0 | F9: =IF(G9="x",D9,0) -> 0
A10: RC4 | B10: Alpine Premium Audio System | C10: =if(G7="x",0,1166) -> 1166 | D10: =if(G7="x",0,1295) -> 1295 | E10: =IF(G10="x",C10,0) -> 0 | F10: =IF(G10="x",D10,0) -> 0 | H10: =if(G7="x","Included with Premium Audio Group","")
A11: DSA | B11: Anti-Spin Rear Differential {Trac-Lok} | C11: =if(or(G6="x",G22="x"),0,536) -> 536 | D11: =if(or(G6="x",G22="x"),0,595) -> 595 | E11: =IF(G11="x",C11,0) -> 0 | F11: =IF(G11="x",D11,0) -> 0 | H11: =if(or(G22="x",G5="x"),"Included with Max Tow (AJQ) [G21] or V6 Turbo Diesel (EXJ) [G6]","")
A12: AM2 | B12: Auxiliary Switch Group | C12: 266 | D12: 295 | E12: =IF(G12="x",C12,0) -> 0 | F12: =IF(G12="x",D12,0) -> 0
A13: HT1 | B13: Black 3-Piece Hard Top | C13: 0 | D13: 0 | E13: =IF(G13="x",C13,0) -> 0 | F13: =IF(G13="x",D13,0) -> 0 | G13: x | H13: =if(or(G17="x",G23="x"),"Included with Dual Top Group (AEN) or Popular Equipment Package (AEH)","")
A14: CMD | B14: Cargo Management Group w/ Trail Rail System | C14: 806 | D14: 895 | E14: =IF(G14="x",C14,0) -> 0 | F14: =IF(G14="x",D14,0) -> 0
A15: ADE | B15: Cold Weather Group | C15: 626 | D15: 695 | E15: =IF(G15="x",C15,0) -> 0 | F15: =IF(G15="x",D15,0) -> 0
A16: ADC | B16: Convenience Group | C16: 0 | D16: 0 | E16: =IF(G16="x",C16,0) -> 0 | F16: =IF(G16="x",D16,0) -> 0 | G16: x | H16: =if(G23="x","Included with Popular Equipment Package (AEH)","")
A17: AEN | B17: Dual Top Group | C17: 990 | D17: 1100 | E17: =IF(G17="x",C17,0) -> 0 | F17: =IF(G17="x",D17,0) -> 0 | H17: =if(AND(G17="x",G25="",G36="",G37=""),"Requires Tonneau Option;Roll-Up (CSD), Hard Tri-fold (CSU) or Soft Tri-fold (CT6)","")
A18: NHK | B18: Engine Block Heater | C18: 86 | D18: 95 | E18: =IF(G18="x",C18,0) -> 0 | F18: =IF(G18="x",D18,0) -> 0
A19: ADA | B19: LED Headlamp and Fog Lamp Group | C19: 913 | D19: 1015 | E19: =IF(G19="x",C19,0) -> 0 | F19: =IF(G19="x",D19,0) -> 0 | H19: =(if(and(G19="x",G26=""),"Requires Safety Group (AJ1)",""))
A20: CHD | B20: Hardtop Headliner | C20: 500 | D20: 595 | E20: =IF(G20="x",C20,0) -> 0 | F20: =IF(G20="x",D20,0) -> 0 | H20: =if(G20="x",if(or(G17="x",G13="x"),"","Requires Dual Top Group (AEN) or Black 3-Pc Hard Top (HT1)"),"")
A21: XWX | B21: Jeep Trail Rated Kit | C21: 180 | D21: 200 | E21: =IF(G21="x",C21,0) -> 0 | F21: =IF(G21="x",D21,0) -> 0
A22: AJQ | B22: Max Tow Package w/ 4.10 Axle Ratio | C22: 940 | D22: 1045 | E22: =IF(G22="x",C22,0) -> 0 | F22: =IF(G22="x",D22,0) -> 0 | H22: =if(G5="x","N/A with 8HP75 Automatic Transmission (DFV)","")
A23: AEH | B23: Popular Equipment Package | C23: 1256 | D23: 1395 | E23: =IF(G23="x",C23,0) -> 0 | F23: =IF(G23="x",D23,0) -> 0
A24: STB | B24: Premium Black Sunrider Soft Top | C24: =if(G17="x",0,536) -> 536 | D24: =if(G17="x",0,595) -> 595 | E24: =IF(G24="x",C24,0) -> 0 | F24: =IF(G24="x",D24,0) -> 0 | H24: =if(G17="x","Included with AEN (Dual Top Group)[F17]","")
A25: CSD | B25: Roll-Up Tonneau Cover | C25: 536 | D25: 595 | E25: =IF(G25="x",C25,0) -> 0 | F25: =IF(G25="x",D25,0) -> 0 | H25: =if(G37="x","N/A with Mopar Soft Tri-fold (CT6) [F23]","")
A26: AJ1 | B26: Safety Group | C26: 896 | D26: 995 | E26: =IF(G26="x",C26,0) -> 0 | F26: =IF(G26="x",D26,0) -> 0
A27: DHP | B27: Selec-Trac Full TIme 4WD System | C27: 626 | D27: 695 | E27: =IF(G27="x",C27,0) -> 0 | F27: =IF(G27="x",D27,0) -> 0 | H27: =if(and(G27="x",G4=""),"Requires 8-Speed Automatic 850Re Transmission (DFT)","")
A28: MRK | B28: Side Steps | C28: 626 | D28: 695 | E28: =IF(G28="x",C28,0) -> 0 | F28: =IF(G28="x",D28,0) -> 0
A29: RSD | B29: SiriusXM w/ 1-Year Radio Subscription | C29: =if(G33="x",0,266) -> 0 | D29: =if(G33="x",0,295) -> 0 | E29: =IF(G29="x",C29,0) -> 0 | F29: =IF(G29="x",D29,0) -> 0 | H29: =if(G33="x","Included with Technology Group (AAN)","") -> Included with Technology Group (AAN)
A30: XHC | B30: Smokers Group | C30: 27 | D30: 30 | E30: =IF(G30="x",C30,0) -> 0 | F30: =IF(G30="x",D30,0) -> 0
A31: CWJ | B31: Soft Top Window Storage Bag | C31: 68 | D31: 75 | E31: =IF(G31="x",C31,0) -> 0 | F31: =IF(G31="x",D31,0) -> 0 | H31: =if(G31="x",if(or(G17="x",G24="x"),"","Requires STB (Premium Soft Top)[F18] or AEN (Dual Top Group)[F17]"),"")
A32: XMF | B32: Spray-In Bedliner | C32: 446 | D32: 495 | E32: =IF(G32="x",C32,0) -> 0 | F32: =IF(G32="x",D32,0) -> 0
A33: AAN | B33: Technology Group | C33: 0 | D33: 0 | E33: =IF(G33="x",C33,0) -> 0 | F33: =IF(G33="x",D33,0) -> 0 | G33: x | H33: =if(and(G33="x",G16=""),"Requires Convenience Group (ADC)","")
A34: ABR | B34: Trailer Tow Package | C34: 0 | D34: 0 | E34: =IF(G34="x",C34,0) -> 0 | F34: =IF(G34="x",D34,0) -> 0 | G34: x | H34: =if(or(G22="x",G23="x"),"Included with Max TowPackage (AJQ) or Popular Equipment Package (AEH)","")
A35: RSJ | B35: Wireless Blutooth Speaker | C35: 266 | D35: 295 | E35: =IF(G35="x",C35,0) -> 0 | F35: =IF(G35="x",D35,0) -> 0 | H35: =if(G35="x",if(or(G7="x",G10="x"),"","Requires 8.4 Radio (AEK) or Alpine Premium Audio (RC4)"),"")
A36: CSU | B36: Mopar Hard Tri-fold Tonneau Cover | C36: 896 | D36: 995 | E36: =IF(G36="x",C36,0) -> 0 | F36: =IF(G36="x",D36,0) -> 0 | H36: =if(or(G25="x",G37="x"),"N/A with Roll-Up Tonneau (CSD) [F21] or Mopar Soft Tri-fold (CT6) [F23]","")
A37: CT6 | B37: Mopar Soft Tri-fold Tonneau Cover | C37: 563 | D37: 625 | E37: =IF(G37="x",C37,0) -> 0 | F37: =IF(G37="x",D37,0) -> 0 | H37: =if(or(G25="x",G36="x"),"N/A with Roll-Up Tonneau (CSD) [F21] or Mopar Hard Tri-fold (CSU) [F22]","")
B38: "Non-White" Paint Color Surcharge | C38: 220 | D38: 245 | E38: =IF(G38="x",C38,0) -> 0 | F38: =IF(G38="x",D38,0) -> 0 | H38: Required for any color other than White
B39: ='Mopar Add-Ons'!B24 -> Total Mopar Add-On Cost | E39: ='Mopar Add-Ons'!E24 -> 0 | F39: ='Mopar Add-Ons'!F24 -> 0 | H39: ='Mopar Add-Ons'!H24 -> Price pulled from sheet "Mopar Add-Ons"
B40: TOTAL | E40: =SUM(E3:E39) -> 37384 | F40: =SUM(F3:F39) -> 38460
...

Sheet Texas
B1: To Edit, Open File Menu and choose "Make a Copy" | H1: Buy Me a cup of Coffee (or something)
A2: Code | B2: Option | C2: Invoice | D2: MSRP | E2: Extended Invoice | F2: Extended MSRP | G2: Build | H2: Enter X within the Build column (G4-37) by each desired feature.
A3: 2_S | B3: JT SPORT S | C3: 38554 | D3: 39760 | E3: =IF(G3="x",C3,0) -> 38554 | F3: =IF(G3="x",D3,0) -> 39760 | G3: x | H3: Notes/Requirements
A4: DFT | B4: 8-Speed Automatic 850Re Transmission | C4: 1800 | D4: 2000 | E4: =IF(G4="x",C4,0) -> 0 | F4: =IF(G4="x",D4,0) -> 0 | H4: =if(and(G4="x",G5="x"),"N/A with multiple Transmission selections","")
A5: DFV | B5: 8-Speed Automatic 8HP75 Transmission | C5: 1800 | D5: 2000 | E5: =IF(G5="x",C5,0) -> 0 | F5: =IF(G5="x",D5,0) -> 0 | H5: =if(and(G5="x",G6=""),"Requires V6 Turbo","")
A6: EXJ | B6: 3.0L V6 Turbo Diesel Engine w/ESS | C6: 3600 | D6: 4000 | E6: =IF(G6="x",C6,0) -> 0 | F6: =IF(G6="x",D6,0) -> 0 | H6: =if(and(G6="x",G5=""),"Requires DFV 8-Speed Transmission","")
A7: AEK | B7: 8.4" Radio & Premium Audio Group | C7: 1796 | D7: 1995 | E7: =IF(G7="x",C7,0) -> 0 | F7: =IF(G7="x",D7,0) -> 0 | H7: =if(and(G7="x",G33=""),"Requires Technology Group (AAN)","")
A8: ALP | B8: Advanced Safety Group | C8: 716 | D8: 795 | E8: =IF(G8="x",C8,0) -> 0 | F8: =IF(G8="x",D8,0) -> 0 | H8: =if(and(G8="x",G26=""),"Requires Safety Group (AJ1)","")
A9: CWA | B9: All Weather Slush Mats | C9: 149 | D9: 165 | E9: =IF(G9="x",C9,0) -> 0 | F9: =IF(G9="x",D9,0) -> 0
A10: RC4 | B10: Alpine Premium Audio System | C10: =if(G7="x",0,1166) -> 1166 | D10: =if(G7="x",0,1295) -> 1295 | E10: =IF(G10="x",C10,0) -> 0 | F10: =IF(G10="x",D10,0) -> 0 | H10: =if(G7="x","Included with Premium Audio Group","")
A11: DSA | B11: Anti-Spin Rear Differential {Trac-Lok} | C11: =if(or(G6="x",G22="x"),0,536) -> 536 | D11: =if(or(G6="x",G22="x"),0,595) -> 595 | E11: =IF(G11="x",C11,0) -> 0 | F11: =IF(G11="x",D11,0) -> 0 | H11: =if(or(G22="x",G5="x"),"Included with Max Tow (AJQ) [G21] or V6 Turbo Diesel (EXJ) [G6]","")
A12: AM2 | B12: Auxiliary Switch Group | C12: 266 | D12: 295 | E12: =IF(G12="x",C12,0) -> 0 | F12: =IF(G12="x",D12,0) -> 0
A13: HT1 | B13: Black 3-Piece Hard Top | C13: 0 | D13: 0 | E13: =IF(G13="x",C13,0) -> 0 | F13: =IF(G13="x",D13,0) -> 0 | G13: x | H13: =if(or(G17="x",G23="x"),"Included with Dual Top Group (AEN) or Popular Equipment Package (AEH)","")
A14: CMD | B14: Cargo Management Group w/ Trail Rail System | C14: 806 | D14: 895 | E14: =IF(G14="x",C14,0) -> 0 | F14: =IF(G14="x",D14,0) -> 0
A15: ADE | B15: Cold Weather Group | C15: 626 | D15: 695 | E15: =IF(G15="x",C15,0) -> 0 | F15: =IF(G15="x",D15,0) -> 0
A16: ADC | B16: Convenience Group | C16: 0 | D16: 0 | E16: =IF(G16="x",C16,0) -> 0 | F16: =IF(G16="x",D16,0) -> 0 | G16: x | H16: =if(G23="x","Included with Popular Equipment Package (AEH)","")
A17: AEN | B17: Dual Top Group | C17: 990 | D17: 1100 | E17: =IF(G17="x",C17,0) -> 0 | F17: =IF(G17="x",D17,0) -> 0 | H17: =if(AND(G17="x",G25="",G36="",G37=""),"Requires Tonneau Option;Roll-Up (CSD), Hard Tri-fold (CSU) or Soft Tri-fold (CT6)","")
A18: NHK | B18: Engine Block Heater | C18: 86 | D18: 95 | E18: =IF(G18="x",C18,0) -> 0 | F18: =IF(G18="x",D18,0) -> 0
A19: ADA | B19: LED Headlamp and Fog Lamp Group | C19: 913 | D19: 1015 | E19: =IF(G19="x",C19,0) -> 0 | F19: =IF(G19="x",D19,0) -> 0 | H19: =(if(and(G19="x",G26=""),"Requires Safety Group (AJ1)",""))
A20: CHD | B20: Hardtop Headliner | C20: 500 | D20: 595 | E20: =IF(G20="x",C20,0) -> 0 | F20: =IF(G20="x",D20,0) -> 0 | H20: =if(G20="x",if(or(G17="x",G13="x"),"","Requires Dual Top Group (AEN) or Black 3-Pc Hard Top (HT1)"),"")
A21: XWX | B21: Jeep Trail Rated Kit | C21: 180 | D21: 200 | E21: =IF(G21="x",C21,0) -> 0 | F21: =IF(G21="x",D21,0) -> 0
A22: AJQ | B22: Max Tow Package w/ 4.10 Axle Ratio | C22: 940 | D22: 1045 | E22: =IF(G22="x",C22,0) -> 0 | F22: =IF(G22="x",D22,0) -> 0 | H22: =if(G5="x","N/A with 8HP75 Automatic Transmission (DFV)","")
A23: AEH | B23: Popular Equipment Package | C23: 1256 | D23: 1395 | E23: =IF(G23="x",C23,0) -> 0 | F23: =IF(G23="x",D23,0) -> 0
A24: STB | B24: Premium Black Sunrider Soft Top | C24: =if(G17="x",0,536) -> 536 | D24: =if(G17="x",0,595) -> 595 | E24: =IF(G24="x",C24,0) -> 0 | F24: =IF(G24="x",D24,0) -> 0 | H24: =if(G17="x","Included with AEN (Dual Top Group)[F17]","")
A25: CSD | B25: Roll-Up Tonneau Cover | C25: 536 | D25: 595 | E25: =IF(G25="x",C25,0) -> 0 | F25: =IF(G25="x",D25,0) -> 0 | H25: =if(G37="x","N/A with Mopar Soft Tri-fold (CT6) [F23]","")
A26: AJ1 | B26: Safety Group | C26: 896 | D26: 995 | E26: =IF(G26="x",C26,0) -> 0 | F26: =IF(G26="x",D26,0) -> 0
A27: DHP | B27: Selec-Trac Full TIme 4WD System | C27: 626 | D27: 695 | E27: =IF(G27="x",C27,0) -> 0 | F27: =IF(G27="x",D27,0) -> 0 | H27: =if(and(G27="x",G4=""),"Requires 8-Speed Automatic 850Re Transmission (DFT)","")
A28: MRK | B28: Side Steps | C28: 0 | D28: 0 | E28: =IF(G28="x",C28,0) -> 0 | F28: =IF(G28="x",D28,0) -> 0 | G28: x
A29: RSD | B29: SiriusXM w/ 1-Year Radio Subscription | C29: =if(G33="x",0,266) -> 0 | D29: =if(G33="x",0,295) -> 0 | E29: =IF(G29="x",C29,0) -> 0 | F29: =IF(G29="x",D29,0) -> 0 | G29: x | H29: =if(G33="x","Included with Technology Group (AAN)","") -> Included with Technology Group (AAN)
A30: XHC | B30: Smokers Group | C30: 27 | D30: 30 | E30: =IF(G30="x",C30,0) -> 0 | F30: =IF(G30="x",D30,0) -> 0
A31: CWJ | B31: Soft Top Window Storage Bag | C31: 68 | D31: 75 | E31: =IF(G31="x",C31,0) -> 0 | F31: =IF(G31="x",D31,0) -> 0 | H31: =if(G31="x",if(or(G17="x",G24="x"),"","Requires STB (Premium Soft Top)[F18] or AEN (Dual Top Group)[F17]"),"")
A32: XMF | B32: Spray-In Bedliner | C32: 446 | D32: 495 | E32: =IF(G32="x",C32,0) -> 0 | F32: =IF(G32="x",D32,0) -> 0
A33: AAN | B33: Technology Group | C33: 0 | D33: 0 | E33: =IF(G33="x",C33,0) -> 0 | F33: =IF(G33="x",D33,0) -> 0 | G33: x | H33: =if(and(G33="x",G16=""),"Requires Convenience Group (ADC)","")
A34: ABR | B34: Trailer Tow Package | C34: 0 | D34: 0 | E34: =IF(G34="x",C34,0) -> 0 | F34: =IF(G34="x",D34,0) -> 0 | G34: x | H34: =if(or(G22="x",G23="x"),"Included with Max TowPackage (AJQ) or Popular Equipment Package (AEH)","")
A35: RSJ | B35: Wireless Blutooth Speaker | C35: 266 | D35: 295 | E35: =IF(G35="x",C35,0) -> 0 | F35: =IF(G35="x",D35,0) -> 0 | H35: =if(G35="x",if(or(G7="x",G10="x"),"","Requires 8.4 Radio (AEK) or Alpine Premium Audio (RC4)"),"")
A36: CSU | B36: Mopar Hard Tri-fold Tonneau Cover | C36: 896 | D36: 995 | E36: =IF(G36="x",C36,0) -> 0 | F36: =IF(G36="x",D36,0) -> 0 | H36: =if(or(G25="x",G37="x"),"N/A with Roll-Up Tonneau (CSD) [F21] or Mopar Soft Tri-fold (CT6) [F23]","")
A37: CT6 | B37: Mopar Soft Tri-fold Tonneau Cover | C37: 563 | D37: 625 | E37: =IF(G37="x",C37,0) -> 0 | F37: =IF(G37="x",D37,0) -> 0 | H37: =if(or(G25="x",G36="x"),"N/A with Roll-Up Tonneau (CSD) [F21] or Mopar Hard Tri-fold (CSU) [F22]","")
B38: "Non-White" Paint Color Surcharge | C38: 220 | D38: 245 | E38: =IF(G38="x",C38,0) -> 0 | F38: =IF(G38="x",D38,0) -> 0 | H38: Required for any color other than White
B39: ='Mopar Add-Ons'!B24 -> Total Mopar Add-On Cost | E39: ='Mopar Add-Ons'!E24 -> 0 | F39: ='Mopar Add-Ons'!F24 -> 0 | H39: ='Mopar Add-Ons'!H24 -> Price pulled from sheet "Mopar Add-Ons"
B40: TOTAL | E40: =SUM(E3:E39) -> 38554 | F40: =SUM(F3:F39) -> 39760
...

Sheet Mojave
B1: To Edit, Open File Menu and choose "Make a Copy" | H1: Buy Me a cup of Coffee (or something)
A2: Code | B2: Option | C2: Invoice | D2: MSRP | E2: Extended Invoice | F2: Extended MSRP | G2: Build | H2: Enter X within the Build column (G4-37) by each desired feature.
A3: 2_D | B3: JT MOJAVE | C3: 41913 | D3: 43895 | E3: =IF(G3="x",C3,0) -> 41913 | F3: =IF(G3="x",D3,0) -> 43895 | G3: x | H3: Notes/Requirements
A4: DFT | B4: 8-Speed Automatic 850RE Transmission | C4: 1800 | D4: 2000 | E4: =IF(G4="x",C4,0) -> 0 | F4: =IF(G4="x",D4,0) -> 0
A5: WFA | B5: 17" X 7.5" Gloss Black Polished Wheels | C5: 896 | D5: 995 | E5: =IF(G5="x",C5,0) -> 0 | F5: =IF(G5="x",D5,0) -> 0
A6: AEK | B6: 8.4" Radio and Premium Audio Group | C6: 1706 | D6: 1895 | E6: =IF(G6="x",C6,0) -> 0 | F6: =IF(G6="x",D6,0) -> 0
A7: ALP | B7: Advanced Safety Group | C7: 716 | D7: 795 | E7: =IF(G7="x",C7,0) -> 0 | F7: =IF(G7="x",D7,0) -> 0 | H7: =if(and(G7="x",G27=""),"Requires Safety Group (AJ1)","")
A8: CWA | B8: All Weather Slush Mats | C8: 149 | D8: 165 | E8: =IF(G8="x",C8,0) -> 0 | F8: =IF(G8="x",D8,0) -> 0
A9: RC4 | B9: Alpine Premium Audio System | C9: =if(G6="x",0,1166) -> 1166 | D9: =if(G6="x",0,1295) -> 1295 | E9: =IF(G9="x",C9,0) -> 0 | F9: =IF(G9="x",D9,0) -> 0 | H9: =if(G6="x","Included with Premium Audio Group (AEK)","")
A10: AM2 | B10: Auxiliary Switch Group | C10: 266 | D10: 295 | E10: =IF(G10="x",C10,0) -> 0 | F10: =IF(G10="x",D10,0) -> 0
A11: HT1 | B11: Black Freedom 3-Piece Hard Top | C11: =if(G16="x",0,1256) -> 1256 | D11: =if(G16="x",0,1395) -> 1395 | E11: =IF(G11="x",C11,0) -> 0 | F11: =IF(G11="x",D11,0) -> 0 | H11: =if(G16="x","Included with Dual Top Group (AEN)","")
A12: HT3 | B12: Body Color 3-Piece Hard Top | C12: =if(G16="x",1080,2156) -> 2156 | D12: =if(G16="x",1200,2395) -> 2395 | E12: =IF(G12="x",C12,0) -> 0 | F12: =IF(G12="x",D12,0) -> 0 | H12: =if(G16="x","Price Reduced if selected with Dual Top Group (AEN) instead of Black Hard Top","")
A13: MM3 | B13: Body-Color Fender Flares 2-Pc | C13: 626 | D13: 695 | E13: =IF(G13="x",C13,0) -> 0 | F13: =IF(G13="x",D13,0) -> 0
A14: CMD | B14: Cargo Management Group With Trail Rail System | C14: 806 | D14: 895 | E14: =IF(G14="x",C14,0) -> 0 | F14: =IF(G14="x",D14,0) -> 0
A15: ADE | B15: Cold Weather Group | C15: =if(G4="X",896,626) -> 626 | D15: =if(G4="X",995,695) -> 695 | E15: =IF(G15="x",C15,0) -> 0 | F15: =IF(G15="x",D15,0) -> 0
A16: AEN | B16: Dual Top Group | C16: 2156 | D16: 2395 | E16: =IF(G16="x",C16,0) -> 0 | F16: =IF(G16="x",D16,0) -> 0 | H16: =if(AND(G16="x",G26="",G35="",G36=""),"Requires Tonneau Option; Roll-Up (CSD), Hard Tri-Fold (CSU) or Soft Tri-Fold (CT6)","")
A17: NHK | B17: Engine Block Heater | C17: 86 | D17: 95 | E17: =IF(G17="x",C17,0) -> 0 | F17: =IF(G17="x",D17,0) -> 0
A18: CHD | B18: Hardtop Headliner | C18: 500 | D18: 555 | E18: =IF(G18="x",C18,0) -> 0 | F18: =IF(G18="x",D18,0) -> 0 | H18: =if(G18="x",if(or($G$11="x",$G$12="x"),"","Requires Black Hard-Top (HT1) or Body Color Hard Top (HT3)"),"")
A19: XNY | B19: Integrated Trailcam Off-Road Camera | C19: 536 | D19: 595 | E19: =IF(G19="x",C19,0) -> 0 | F19: =IF(G19="x",D19,0) -> 0 | H19: =if(G19="x",if(and($G$6="x",$G$21="x"),"","Requires AD6 (LED lights)[F6] and AEK (8.4 radio)[F8]"),"")
A20: XWX | B20: Jeep Trail Rated Kit | C20: 180 | D20: 200 | E20: =IF(G20="x",C20,0) -> 0 | F20: =IF(G20="x",D20,0) -> 0
A21: AD6 | B21: LED Lighting Group | C21: 1166 | D21: 1295 | E21: =IF(G21="x",C21,0) -> 0 | F21: =IF(G21="x",D21,0) -> 0
A22: TWG | B22: LT285/70R17C BSW M/T Tires | C22: 0 | D22: 0 | E22: =IF(G22="x",C22,0) -> 0 | F22: =IF(G22="x",D22,0) -> 0
A23: STB | B23: Premium Black Sunrider Soft Top | C23: =if(G16="x",0,536) -> 536 | D23: =if(G16="x",0,595) -> 595 | E23: =IF(G23="x",C23,0) -> 0 | F23: =IF(G23="x",D23,0) -> 0 | H23: =if(G16="x","Included with Dual Top Group (AEN)","")
A24: GXD | B24: Remote Proximitry Keyless Entry | C24: 490 | D24: 545 | E24: =IF(G24="x",C24,0) -> 0 | F24: =IF(G24="x",D24,0) -> 0
A25: XBM | B25: Remote Start System | C25: =if(G15="x",0,446) -> 446 | D25: =if(G15="x",0,495) -> 495 | E25: =IF(G25="x",C25,0) -> 0 | F25: =IF(G25="x",D25,0) -> 0 | H25: =if(and(G25="x",G4=""),"Requires Automatic Transmission (DFT)",if(G15="x","Included w/ Cold Weather Group (ADE)", ""))
A26: CSD | B26: Roll-Up Tonneau Cover | C26: 536 | D26: 595 | E26: =IF(G26="x",C26,0) -> 0 | F26: =IF(G26="x",D26,0) -> 0 | H26: =if(G26="x","N/A with Mopar Soft Tri-fold (CT6) or Hard Tri-Fold Tonneau (CSU)","")
A27: AJ1 | B27: Safety Group | C27: =if(G21="X",806,896) -> 896 | D27: =if(G21="X",895,995) -> 995 | E27: =IF(G27="x",C27,0) -> 0 | F27: =IF(G27="x",D27,0) -> 0
A28: DHP | B28: Selec-Trac Full TIme 4WD System | C28: 626 | D28: 695 | E28: =IF(G28="x",C28,0) -> 0 | F28: =IF(G28="x",D28,0) -> 0 | H28: =if(and(G28="x",G4=""),"Requires 8-Speed Automatic 850Re Transmission (DFT)","")
A29: AWS | B29: Smoker's Group | C29: 27 | D29: 30 | E29: =IF(G29="x",C29,0) -> 0 | F29: =IF(G29="x",D29,0) -> 0
A30: CWJ | B30: Soft Top Window Storage Bag | C30: 68 | D30: 75 | E30: =IF(G30="x",C30,0) -> 0 | F30: =IF(G30="x",D30,0) -> 0 | H30: =if(and(G30="x",G23=""),"Requires Premium Soft Top (STB)","")
A31: XMF | B31: Spray-In Bedliner | C31: 446 | D31: 495 | E31: =IF(G31="x",C31,0) -> 0 | F31: =IF(G31="x",D31,0) -> 0
A32: ABR | B32: Trailer Tow Package | C32: 316 | D32: 350 | E32: =IF(G32="x",C32,0) -> 0 | F32: =IF(G32="x",D32,0) -> 0
A33: RSJ | B33: Wireless Blutooth Speaker | C33: 266 | D33: 295 | E33: =IF(G33="x",C33,0) -> 0 | F33: =IF(G33="x",D33,0) -> 0 | H33: =if(and(G33="x",G6=""),"Requires Premium Audio Group (AEK)","")
A34: PLX9/PLTA | B34: Leather Trimmed Bucket Seats | C34: 1436 | D34: 1595 | E34: =IF(G34="x",C34,0) -> 0 | F34: =IF(G34="x",D34,0) -> 0
